BEGIN:VCALENDAR
VERSION:2.0
PRODID:-//RD Tactical Handgun Instruction - ECPv4.9.8//NONSGML v1.0//EN
CALSCALE:GREGORIAN
METHOD:PUBLISH
X-WR-CALNAME:RD Tactical Handgun Instruction
X-ORIGINAL-URL:http://www.rdtacticalhandgun.com
X-WR-CALDESC:Events for RD Tactical Handgun Instruction
BEGIN:VTIMEZONE
TZID:America/New_York
BEGIN:DAYLIGHT
TZOFFSETFROM:-0500
TZOFFSETTO:-0400
TZNAME:EDT
DTSTART:20250309T070000
END:DAYLIGHT
BEGIN:STANDARD
TZOFFSETFROM:-0400
TZOFFSETTO:-0500
TZNAME:EST
DTSTART:20251102T060000
END:STANDARD
END:VTIMEZONE
BEGIN:VEVENT
DTSTART;TZID="America/New_York":20251116T080000
DTEND;TZID="America/New_York":20251116T100000
DTSTAMP:20260421T175708
CREATED:20250731T125408Z
LAST-MODIFIED:20250731T125408Z
UID:1541-1763280000-1763287200@www.rdtacticalhandgun.com
SUMMARY:holster operations
DESCRIPTION:holster \n
URL:http://www.rdtacticalhandgun.com/calendar/holster-operations/
LOCATION:Top Gun\, 481 Main St\, Poland\, ME\, 04274\, United States
ORGANIZER;CN="RD%20Tactical%20Handgun":MAILTO:rdtacticalhandgun@roadrunner.com
END:VEVENT
END:VCALENDAR