BEGIN:VCALENDAR
VERSION:2.0
PRODID:-//RD Tactical Handgun Instruction - ECPv4.9.8//NONSGML v1.0//EN
CALSCALE:GREGORIAN
METHOD:PUBLISH
X-WR-CALNAME:RD Tactical Handgun Instruction
X-ORIGINAL-URL:http://www.rdtacticalhandgun.com
X-WR-CALDESC:Events for RD Tactical Handgun Instruction
BEGIN:VTIMEZONE
TZID:America/New_York
BEGIN:DAYLIGHT
TZOFFSETFROM:-0500
TZOFFSETTO:-0400
TZNAME:EDT
DTSTART:20260308T070000
END:DAYLIGHT
BEGIN:STANDARD
TZOFFSETFROM:-0400
TZOFFSETTO:-0500
TZNAME:EST
DTSTART:20261101T060000
END:STANDARD
END:VTIMEZONE
BEGIN:VEVENT
DTSTART;TZID="America/New_York":20260405T080000
DTEND;TZID="America/New_York":20260405T100000
DTSTAMP:20260420T225245
CREATED:20251221T163053Z
LAST-MODIFIED:20251221T163053Z
UID:1655-1775376000-1775383200@www.rdtacticalhandgun.com
SUMMARY:ladies club
DESCRIPTION:
URL:http://www.rdtacticalhandgun.com/calendar/ladies-club-60/
LOCATION:Top Gun\, 481 Main St\, Poland\, ME\, 04274\, United States
ORGANIZER;CN="RD%20Tactical%20Handgun":MAILTO:rdtacticalhandgun@roadrunner.com
END:VEVENT
BEGIN:VEVENT
DTSTART;TZID="America/New_York":20260412T080000
DTEND;TZID="America/New_York":20260412T133000
DTSTAMP:20260420T225245
CREATED:20251221T160724Z
LAST-MODIFIED:20251221T160724Z
UID:1633-1775980800-1776000600@www.rdtacticalhandgun.com
SUMMARY:beginner pistol
DESCRIPTION:
URL:http://www.rdtacticalhandgun.com/calendar/beginner-pistol-70/
LOCATION:Top Gun\, 481 Main St\, Poland\, ME\, 04274\, United States
ORGANIZER;CN="RD%20Tactical%20Handgun":MAILTO:rdtacticalhandgun@roadrunner.com
END:VEVENT
BEGIN:VEVENT
DTSTART;TZID="America/New_York":20260418T080000
DTEND;TZID="America/New_York":20260418T133000
DTSTAMP:20260420T225245
CREATED:20251221T161313Z
LAST-MODIFIED:20251221T161313Z
UID:1645-1776499200-1776519000@www.rdtacticalhandgun.com
SUMMARY:uscca concealed carry
DESCRIPTION:
URL:http://www.rdtacticalhandgun.com/calendar/uscca-concealed-carry-30/
LOCATION:Top Gun\, 481 Main St\, Poland\, ME\, 04274\, United States
ORGANIZER;CN="RD%20Tactical%20Handgun":MAILTO:rdtacticalhandgun@roadrunner.com
END:VEVENT
END:VCALENDAR